BEGIN:VCALENDAR
VERSION:2.0
PRODID:-//KHM - ECPv6.15.20//NONSGML v1.0//EN
CALSCALE:GREGORIAN
METHOD:PUBLISH
X-WR-CALNAME:KHM
X-ORIGINAL-URL:https://khmk.nl
X-WR-CALDESC:Evenementen voor KHM
REFRESH-INTERVAL;VALUE=DURATION:PT1H
X-Robots-Tag:noindex
X-PUBLISHED-TTL:PT1H
BEGIN:VTIMEZONE
TZID:Europe/Amsterdam
BEGIN:DAYLIGHT
TZOFFSETFROM:+0100
TZOFFSETTO:+0200
TZNAME:CEST
DTSTART:20250330T010000
END:DAYLIGHT
BEGIN:STANDARD
TZOFFSETFROM:+0200
TZOFFSETTO:+0100
TZNAME:CET
DTSTART:20251026T010000
END:STANDARD
BEGIN:DAYLIGHT
TZOFFSETFROM:+0100
TZOFFSETTO:+0200
TZNAME:CEST
DTSTART:20260329T010000
END:DAYLIGHT
BEGIN:STANDARD
TZOFFSETFROM:+0200
TZOFFSETTO:+0100
TZNAME:CET
DTSTART:20261025T010000
END:STANDARD
BEGIN:DAYLIGHT
TZOFFSETFROM:+0100
TZOFFSETTO:+0200
TZNAME:CEST
DTSTART:20270328T010000
END:DAYLIGHT
BEGIN:STANDARD
TZOFFSETFROM:+0200
TZOFFSETTO:+0100
TZNAME:CET
DTSTART:20271031T010000
END:STANDARD
END:VTIMEZONE
BEGIN:VEVENT
DTSTART;TZID=Europe/Amsterdam:20260606T100000
DTEND;TZID=Europe/Amsterdam:20260606T170000
DTSTAMP:20260423T002636
CREATED:20250921T152001Z
LAST-MODIFIED:20250921T152115Z
UID:4551-1780740000-1780765200@khmk.nl
SUMMARY:Amusing 2026
DESCRIPTION:Ook in 2026 zal het KHM samen met tientallen andere koren te horen en te zien zijn in de binnenstad van Hengelo
URL:https://khmk.nl/activiteit/amusing-2026-2/
LOCATION:Binnenstad Hengelo\, Marktplein\, Hengelo\, Overijssel\, 7551 CG\, Nederland
CATEGORIES:Optreden
ORGANIZER;CN="Korenfestifal Amusing Hengelo":MAILTO:info@amusing-hengelo.nl
END:VEVENT
BEGIN:VEVENT
DTSTART;TZID=Europe/Amsterdam:20260509T123000
DTEND;TZID=Europe/Amsterdam:20260509T131500
DTSTAMP:20260423T002636
CREATED:20260317T204053Z
LAST-MODIFIED:20260324T175948Z
UID:4743-1778329800-1778332500@khmk.nl
SUMMARY:Optreden WAK
DESCRIPTION:In het kader van het Weekend voor de Amateur Kunst (WAK) treedt het 140-jarige KHM op in de middenzaal van Schouwburg Hengelo. Het repertoire zal bestaan uit mix van oud en nieuw repertoire. Ook komen een aantal songs aan bod\, die te horen zullen zijn tijdens het jubileumconcert op 24 oktober 2026.
URL:https://khmk.nl/activiteit/optreden-wak/
LOCATION:Schouwburg Hengelo\, Beursstraat 44\, Hengelo\, Overijssel\, 7551 HV\, Nederland
END:VEVENT
END:VCALENDAR