BEGIN:VCALENDAR
VERSION:2.0
PRODID:-//KHM - ECPv6.15.20//NONSGML v1.0//EN
CALSCALE:GREGORIAN
METHOD:PUBLISH
X-WR-CALNAME:KHM
X-ORIGINAL-URL:https://khmk.nl
X-WR-CALDESC:Evenementen voor KHM
REFRESH-INTERVAL;VALUE=DURATION:PT1H
X-Robots-Tag:noindex
X-PUBLISHED-TTL:PT1H
BEGIN:VTIMEZONE
TZID:Europe/Amsterdam
BEGIN:DAYLIGHT
TZOFFSETFROM:+0100
TZOFFSETTO:+0200
TZNAME:CEST
DTSTART:20250330T010000
END:DAYLIGHT
BEGIN:STANDARD
TZOFFSETFROM:+0200
TZOFFSETTO:+0100
TZNAME:CET
DTSTART:20251026T010000
END:STANDARD
BEGIN:DAYLIGHT
TZOFFSETFROM:+0100
TZOFFSETTO:+0200
TZNAME:CEST
DTSTART:20260329T010000
END:DAYLIGHT
BEGIN:STANDARD
TZOFFSETFROM:+0200
TZOFFSETTO:+0100
TZNAME:CET
DTSTART:20261025T010000
END:STANDARD
BEGIN:DAYLIGHT
TZOFFSETFROM:+0100
TZOFFSETTO:+0200
TZNAME:CEST
DTSTART:20270328T010000
END:DAYLIGHT
BEGIN:STANDARD
TZOFFSETFROM:+0200
TZOFFSETTO:+0100
TZNAME:CET
DTSTART:20271031T010000
END:STANDARD
END:VTIMEZONE
BEGIN:VEVENT
DTSTART;TZID=Europe/Amsterdam:20261024T200000
DTEND;TZID=Europe/Amsterdam:20261024T220000
DTSTAMP:20260422T234803
CREATED:20260212T084800Z
LAST-MODIFIED:20260228T164527Z
UID:4723-1792872000-1792879200@khmk.nl
SUMMARY:Jubileumconcert 140 jaar Koninklijk Hengelo’s Mannenkoor
DESCRIPTION:In 2026 bestaat het Koninklijk Hengelo’s Mannenkoor 140 jaar. Ter ere van dit bijzondere jubileum organiseert het koor op 24 oktober 2026 een groots jubileumconcert in Schouwburg Hengelo. Het concert “Geniet van het Leven; Leve de Muziek!!” brengt de muzikale geschiedenis van het koor samen met de ontwikkeling van Hengelo door de jaren heen\, verweven met historische gebeurtenissen. Hierbij werken mee: \n\n\n\n\nSopraan Francis van Broekhuizen\n\n\n\nHet Projectorkest van Muziekvereniging Armonia o.l.v. Kimmy Reef\n\n\n\nHet Koninklijk Hengelo’s Mannenkoor o.l.v. Jacco Camphens\n\n\n\nHet kinderkoor van basisschool/IKC De Wooldermarke o.l.v. Jeroen Hannink\n\n\n\nDanssectie Hengelose Revue olv Ilse Vossebeld\n\n\n\nProjecties o.l.v. Marc Huizenga\n\n\n\nStadsdichter Hengelo\n\n\n\nArtistiek leider Bertus Braam\n\n\n\nPianist Wouter Munsterman\n\n\n\n\n\n\nHet Koninklijk Hengelo’s Mannenkoor is sinds 1886 actief in de stad en behoort tot de oudste culturele verenigingen van Hengelo en de regio Twente. Door dedecennia heen heeft het koor een belangrijke rol gespeeld tijdens lokale vieringen\, herdenkingen\, culturele evenementen en samenwerkingen met andere Hengelose verenigingen.Het 140-jarig jubileum vormt een uniek moment om deze geschiedenis te vieren. Dat doen we graag samen met u. \n\n\n\nDit concert wordt mede mogelijk gemaakt door:
URL:https://khmk.nl/activiteit/jubileumconcert-140-jaar-koninklijk-hengelos-mannenkoor/
LOCATION:Schouwburg Hengelo\, Beursstraat 44\, Hengelo\, Overijssel\, 7551 HV\, Nederland
ORGANIZER;CN="KHM":MAILTO:info@khmk.nl
END:VEVENT
END:VCALENDAR